BEGIN:VCALENDAR
VERSION:2.0
PRODID:-//Albert Lea Education Foundation - ECPv6.15.2//NONSGML v1.0//EN
CALSCALE:GREGORIAN
METHOD:PUBLISH
X-ORIGINAL-URL:https://aledfoundation.org
X-WR-CALDESC:Events for Albert Lea Education Foundation
REFRESH-INTERVAL;VALUE=DURATION:PT1H
X-Robots-Tag:noindex
X-PUBLISHED-TTL:PT1H
BEGIN:VTIMEZONE
TZID:America/Chicago
BEGIN:DAYLIGHT
TZOFFSETFROM:-0600
TZOFFSETTO:-0500
TZNAME:CDT
DTSTART:20240310T080000
END:DAYLIGHT
BEGIN:STANDARD
TZOFFSETFROM:-0500
TZOFFSETTO:-0600
TZNAME:CST
DTSTART:20241103T070000
END:STANDARD
BEGIN:DAYLIGHT
TZOFFSETFROM:-0600
TZOFFSETTO:-0500
TZNAME:CDT
DTSTART:20250309T080000
END:DAYLIGHT
BEGIN:STANDARD
TZOFFSETFROM:-0500
TZOFFSETTO:-0600
TZNAME:CST
DTSTART:20251102T070000
END:STANDARD
END:VTIMEZONE
BEGIN:VEVENT
DTSTART;TZID=America/Chicago:20250415T170000
DTEND;TZID=America/Chicago:20250415T183000
DTSTAMP:20260424T093756
CREATED:20250405T211421Z
LAST-MODIFIED:20250405T211421Z
UID:3518-1744736400-1744741800@aledfoundation.org
SUMMARY:Board of Directors Meeting
DESCRIPTION:
URL:/event/board-of-directors-meeting-7/
LOCATION:Hammer Fieldhouse\, 1011 Hammer Rad\, Albert Lea\, MN\, 56007\, United States
END:VEVENT
BEGIN:VEVENT
DTSTART;TZID=America/Chicago:20250212T170000
DTEND;TZID=America/Chicago:20250212T180000
DTSTAMP:20260424T093756
CREATED:20241026T182235Z
LAST-MODIFIED:20241026T182235Z
UID:3467-1739379600-1739383200@aledfoundation.org
SUMMARY:Board of Directors Meeting
DESCRIPTION:
URL:/event/board-of-directors-meeting-14/
LOCATION:Hammer Fieldhouse\, 1011 Hammer Rad\, Albert Lea\, MN\, 56007\, United States
END:VEVENT
BEGIN:VEVENT
DTSTART;TZID=America/Chicago:20241211T170000
DTEND;TZID=America/Chicago:20241211T180000
DTSTAMP:20260424T093756
CREATED:20241026T181705Z
LAST-MODIFIED:20241026T181705Z
UID:3465-1733936400-1733940000@aledfoundation.org
SUMMARY:Board of Directors Meeting
DESCRIPTION:
URL:/event/board-of-directors-meeting-6/
LOCATION:Hammer Fieldhouse\, 1011 Hammer Rad\, Albert Lea\, MN\, 56007\, United States
END:VEVENT
BEGIN:VEVENT
DTSTART;TZID=America/Chicago:20241011T093000
DTEND;TZID=America/Chicago:20241011T223000
DTSTAMP:20260424T093756
CREATED:20241026T181422Z
LAST-MODIFIED:20241026T181422Z
UID:3461-1728639000-1728685800@aledfoundation.org
SUMMARY:Distinguished Alumni Talk to High School Seniors
DESCRIPTION:
URL:/event/distinguished-alumni-talk-to-high-school-seniors/
LOCATION:High School Auditorium\, 2000 Tiger Lane\, Albert Lea\, MN\, 56007\, United States
END:VEVENT
BEGIN:VEVENT
DTSTART;TZID=America/Chicago:20241010T173000
DTEND;TZID=America/Chicago:20241010T210000
DTSTAMP:20260424T093756
CREATED:20241026T175954Z
LAST-MODIFIED:20241026T175954Z
UID:3457-1728581400-1728594000@aledfoundation.org
SUMMARY:Pathways to Success Reception
DESCRIPTION:
URL:/event/pathways-to-success-reception/
LOCATION:Wedgewood Cove\, 2200 W 9th St\, Albert Lea\, MN\, 56007\, United States
END:VEVENT
BEGIN:VEVENT
DTSTART;TZID=America/Chicago:20241009T170000
DTEND;TZID=America/Chicago:20241009T180000
DTSTAMP:20260424T093756
CREATED:20241026T175044Z
LAST-MODIFIED:20241026T175044Z
UID:3455-1728493200-1728496800@aledfoundation.org
SUMMARY:Board of Directors Meeting
DESCRIPTION:
URL:/event/board-of-directors-meeting-4/
LOCATION:Hammer Fieldhouse\, 1011 Hammer Rad\, Albert Lea\, MN\, 56007\, United States
END:VEVENT
BEGIN:VEVENT
DTSTART;TZID=America/Chicago:20240814T170000
DTEND;TZID=America/Chicago:20240814T183000
DTSTAMP:20260424T093756
CREATED:20240812T074647Z
LAST-MODIFIED:20240812T074647Z
UID:3342-1723654800-1723660200@aledfoundation.org
SUMMARY:Board of Directors Meeting
DESCRIPTION:
URL:/event/board-of-directors-meeting-3/
LOCATION:Hammer Fieldhouse\, 1011 Hammer Rad\, Albert Lea\, MN\, 56007\, United States
END:VEVENT
BEGIN:VEVENT
DTSTART;TZID=America/Chicago:20240612T170000
DTEND;TZID=America/Chicago:20240612T180000
DTSTAMP:20260424T093756
CREATED:20241026T180431Z
LAST-MODIFIED:20241026T180431Z
UID:3459-1718211600-1718215200@aledfoundation.org
SUMMARY:Board of Directors Meeting
DESCRIPTION:
URL:/event/board-of-directors-meeting-5/
LOCATION:Hammer Fieldhouse\, 1011 Hammer Rad\, Albert Lea\, MN\, 56007\, United States
END:VEVENT
END:VCALENDAR